BEGIN:VCALENDAR
VERSION:2.0
PRODID:-//Golf Emotion - ECPv6.15.12.2//NONSGML v1.0//EN
CALSCALE:GREGORIAN
METHOD:PUBLISH
X-WR-CALNAME:Golf Emotion
X-ORIGINAL-URL:https://www.golf-emotion.eu
X-WR-CALDESC:Veranstaltungen für Golf Emotion
REFRESH-INTERVAL;VALUE=DURATION:PT1H
X-Robots-Tag:noindex
X-PUBLISHED-TTL:PT1H
BEGIN:VTIMEZONE
TZID:Europe/Berlin
BEGIN:DAYLIGHT
TZOFFSETFROM:+0100
TZOFFSETTO:+0200
TZNAME:CEST
DTSTART:20250330T010000
END:DAYLIGHT
BEGIN:STANDARD
TZOFFSETFROM:+0200
TZOFFSETTO:+0100
TZNAME:CET
DTSTART:20251026T010000
END:STANDARD
BEGIN:DAYLIGHT
TZOFFSETFROM:+0100
TZOFFSETTO:+0200
TZNAME:CEST
DTSTART:20260329T010000
END:DAYLIGHT
BEGIN:STANDARD
TZOFFSETFROM:+0200
TZOFFSETTO:+0100
TZNAME:CET
DTSTART:20261025T010000
END:STANDARD
BEGIN:DAYLIGHT
TZOFFSETFROM:+0100
TZOFFSETTO:+0200
TZNAME:CEST
DTSTART:20270328T010000
END:DAYLIGHT
BEGIN:STANDARD
TZOFFSETFROM:+0200
TZOFFSETTO:+0100
TZNAME:CET
DTSTART:20271031T010000
END:STANDARD
END:VTIMEZONE
BEGIN:VEVENT
DTSTART;VALUE=DATE:20260422
DTEND;VALUE=DATE:20260423
DTSTAMP:20260422T024134
CREATED:20220429T133644Z
LAST-MODIFIED:20251214T061904Z
UID:10002977-1776816000-1776902399@www.golf-emotion.eu
SUMMARY:Küsten Golfclub Hohe Klint JOKA Matchday-Plus 2er Texas-Scramble Tagesturnier -Herren-
DESCRIPTION:
URL:https://www.golf-emotion.eu/event/kuesten-golfclub-hohe-klint-joka-matchday-plus-herren/
LOCATION:Küsten-Golfclub Hohe Klint\, Hohe Klint 32\, Cuxhaven\, 27478\, Deutschland
CATEGORIES:Turniere,Turnierkalender
ATTACH;FMTTYPE=image/jpeg:https://www.golf-emotion.eu/wp-content/uploads/GC-Kuesten-Golfclub-Hohe-Klint.jpg
ORGANIZER;CN="Golf Emotion":MAILTO:info@golf-emotion.eu
GEO:53.800365;8.601113
X-APPLE-STRUCTURED-LOCATION;VALUE=URI;X-ADDRESS=Küsten-Golfclub Hohe Klint Hohe Klint 32 Cuxhaven 27478 Deutschland;X-APPLE-RADIUS=500;X-TITLE=Hohe Klint 32:geo:8.601113,53.800365
END:VEVENT
BEGIN:VEVENT
DTSTART;VALUE=DATE:20260422
DTEND;VALUE=DATE:20260423
DTSTAMP:20260422T024135
CREATED:20251214T050118Z
LAST-MODIFIED:20251224T070042Z
UID:10004634-1776816000-1776902399@www.golf-emotion.eu
SUMMARY:Golfclub Ansbach JOKA After-Work Trophy
DESCRIPTION:
URL:https://www.golf-emotion.eu/event/golfclub-ansbach-joka-after-work-trophy/2026-04-22/
LOCATION:Golfclub Ansbach\, Rothenburgerstr.35\, Colmberg\, 91598\, Deutschland
CATEGORIES:Turniere,Turnierkalender
ATTACH;FMTTYPE=image/jpeg:https://www.golf-emotion.eu/wp-content/uploads/GC-Ansbach-2.jpg
ORGANIZER;CN="Golf Emotion":MAILTO:info@golf-emotion.eu
GEO:49.360453;10.404514
X-APPLE-STRUCTURED-LOCATION;VALUE=URI;X-ADDRESS=Golfclub Ansbach Rothenburgerstr.35 Colmberg 91598 Deutschland;X-APPLE-RADIUS=500;X-TITLE=Rothenburgerstr.35:geo:10.404514,49.360453
END:VEVENT
BEGIN:VEVENT
DTSTART;VALUE=DATE:20260422
DTEND;VALUE=DATE:20260423
DTSTAMP:20260422T024135
CREATED:20260109T053939Z
LAST-MODIFIED:20260109T053939Z
UID:10004895-1776816000-1776902399@www.golf-emotion.eu
SUMMARY:Golfclub Der Lüderich JOKA After-Work Trophy
DESCRIPTION:
URL:https://www.golf-emotion.eu/event/golfclub-der-luederich-joka-after-work-trophy/
LOCATION:Golfclub Am Lüderich\, Am Golfplatz 1\, Overath\, 51491\, Deutschland
CATEGORIES:Turniere,Turnierkalender
ATTACH;FMTTYPE=image/jpeg:https://www.golf-emotion.eu/wp-content/uploads/GC-Am-Luederich-3.jpg
ORGANIZER;CN="Golf Emotion":MAILTO:info@golf-emotion.eu
GEO:50.9423;7.21964
X-APPLE-STRUCTURED-LOCATION;VALUE=URI;X-ADDRESS=Golfclub Am Lüderich Am Golfplatz 1 Overath 51491 Deutschland;X-APPLE-RADIUS=500;X-TITLE=Am Golfplatz 1:geo:7.21964,50.9423
END:VEVENT
END:VCALENDAR