BEGIN:VCALENDAR
VERSION:2.0
PRODID:-//Golf Emotion - ECPv6.15.12.2//NONSGML v1.0//EN
CALSCALE:GREGORIAN
METHOD:PUBLISH
X-WR-CALNAME:Golf Emotion
X-ORIGINAL-URL:https://www.golf-emotion.eu
X-WR-CALDESC:Veranstaltungen für Golf Emotion
REFRESH-INTERVAL;VALUE=DURATION:PT1H
X-Robots-Tag:noindex
X-PUBLISHED-TTL:PT1H
BEGIN:VTIMEZONE
TZID:Europe/Berlin
BEGIN:DAYLIGHT
TZOFFSETFROM:+0100
TZOFFSETTO:+0200
TZNAME:CEST
DTSTART:20250330T010000
END:DAYLIGHT
BEGIN:STANDARD
TZOFFSETFROM:+0200
TZOFFSETTO:+0100
TZNAME:CET
DTSTART:20251026T010000
END:STANDARD
BEGIN:DAYLIGHT
TZOFFSETFROM:+0100
TZOFFSETTO:+0200
TZNAME:CEST
DTSTART:20260329T010000
END:DAYLIGHT
BEGIN:STANDARD
TZOFFSETFROM:+0200
TZOFFSETTO:+0100
TZNAME:CET
DTSTART:20261025T010000
END:STANDARD
BEGIN:DAYLIGHT
TZOFFSETFROM:+0100
TZOFFSETTO:+0200
TZNAME:CEST
DTSTART:20270328T010000
END:DAYLIGHT
BEGIN:STANDARD
TZOFFSETFROM:+0200
TZOFFSETTO:+0100
TZNAME:CET
DTSTART:20271031T010000
END:STANDARD
END:VTIMEZONE
BEGIN:VEVENT
DTSTART;VALUE=DATE:20260423
DTEND;VALUE=DATE:20260424
DTSTAMP:20260423T115657
CREATED:20240209T052638Z
LAST-MODIFIED:20260202T043316Z
UID:10005008-1776902400-1776988799@www.golf-emotion.eu
SUMMARY:Golfclub Gutshof JOKA After-Work Trophy 1
DESCRIPTION:
URL:https://www.golf-emotion.eu/event/golfclub-gutshof-joka-after-work-trophy-1/2026-04-23/
LOCATION:Golfclub Gutshof Papenburg\, Gutshofstr.141\, Papenburg\, 26871\, Deutschland
CATEGORIES:Turniere,Turnierkalender
ATTACH;FMTTYPE=image/jpeg:https://www.golf-emotion.eu/wp-content/uploads/GC-Gutshof-Papenburg-2.jpg
ORGANIZER;CN="Golf Emotion":MAILTO:info@golf-emotion.eu
GEO:53.059565;7.411021
X-APPLE-STRUCTURED-LOCATION;VALUE=URI;X-ADDRESS=Golfclub Gutshof Papenburg Gutshofstr.141 Papenburg 26871 Deutschland;X-APPLE-RADIUS=500;X-TITLE=Gutshofstr.141:geo:7.411021,53.059565
END:VEVENT
BEGIN:VEVENT
DTSTART;VALUE=DATE:20260423
DTEND;VALUE=DATE:20260424
DTSTAMP:20260423T115657
CREATED:20250105T124622Z
LAST-MODIFIED:20251215T042653Z
UID:10004787-1776902400-1776988799@www.golf-emotion.eu
SUMMARY:West Golf JOKA After-Work Trophy
DESCRIPTION:
URL:https://www.golf-emotion.eu/event/west-golf-joka-after-work-trophy-2/2026-04-23/
LOCATION:West Golf\, Am Golfplatz 1\, Troisdorf\, 53844\, Deutschland
CATEGORIES:Turniere,Turnierkalender
ATTACH;FMTTYPE=image/jpeg:https://www.golf-emotion.eu/wp-content/uploads/GC-West-Golf-Troisdorf-5.jpg
ORGANIZER;CN="Golf Emotion":MAILTO:info@golf-emotion.eu
GEO:50.814138;7.106041
X-APPLE-STRUCTURED-LOCATION;VALUE=URI;X-ADDRESS=West Golf Am Golfplatz 1 Troisdorf 53844 Deutschland;X-APPLE-RADIUS=500;X-TITLE=Am Golfplatz 1:geo:7.106041,50.814138
END:VEVENT
BEGIN:VEVENT
DTSTART;VALUE=DATE:20260423
DTEND;VALUE=DATE:20260424
DTSTAMP:20260423T115657
CREATED:20250225T061715Z
LAST-MODIFIED:20260109T060955Z
UID:10004900-1776902400-1776988799@www.golf-emotion.eu
SUMMARY:Golfclub Reinfeld JOKA After-Work Trophy
DESCRIPTION:
URL:https://www.golf-emotion.eu/event/golfclub-reinfeld-joka-after-work-trophy-2/2026-04-23/
LOCATION:Golfclub Reinfeld\, Binnenkamp 29\, Reinfeld\, 23858\, Deutschland
CATEGORIES:Turniere,Turnierkalender
ATTACH;FMTTYPE=image/jpeg:https://www.golf-emotion.eu/wp-content/uploads/GC-Reinfeld-3.jpg
ORGANIZER;CN="Golf Emotion":MAILTO:info@golf-emotion.eu
GEO:53.847956;10.500913
X-APPLE-STRUCTURED-LOCATION;VALUE=URI;X-ADDRESS=Golfclub Reinfeld Binnenkamp 29 Reinfeld 23858 Deutschland;X-APPLE-RADIUS=500;X-TITLE=Binnenkamp 29:geo:10.500913,53.847956
END:VEVENT
BEGIN:VEVENT
DTSTART;VALUE=DATE:20260423
DTEND;VALUE=DATE:20260424
DTSTAMP:20260423T115657
CREATED:20260109T152350Z
LAST-MODIFIED:20260109T152351Z
UID:10004916-1776902400-1776988799@www.golf-emotion.eu
SUMMARY:Golfclub Salzgitter Joka After-Work Trophy
DESCRIPTION:
URL:https://www.golf-emotion.eu/event/golfclub-salzgitter-joka-after-work-trophy-2/2026-04-23/
LOCATION:Golfclub Salzgitter\, Mahner Berg\, Salzgitter\, 38259\, Deutschland
CATEGORIES:Turniere,Turnierkalender
ATTACH;FMTTYPE=image/jpeg:https://www.golf-emotion.eu/wp-content/uploads/GC-Salzgitter-3.jpg
ORGANIZER;CN="Golf Emotion":MAILTO:info@golf-emotion.eu
GEO:52.0415;10.3927
X-APPLE-STRUCTURED-LOCATION;VALUE=URI;X-ADDRESS=Golfclub Salzgitter Mahner Berg Salzgitter 38259 Deutschland;X-APPLE-RADIUS=500;X-TITLE=Mahner Berg:geo:10.3927,52.0415
END:VEVENT
BEGIN:VEVENT
DTSTART;VALUE=DATE:20260423
DTEND;VALUE=DATE:20260424
DTSTAMP:20260423T115657
CREATED:20260122T052956Z
LAST-MODIFIED:20260122T052957Z
UID:10004975-1776902400-1776988799@www.golf-emotion.eu
SUMMARY:Golfclub Bad Abbach JOKA After-Work Trophy
DESCRIPTION:
URL:https://www.golf-emotion.eu/event/golfclub-bad-abbach-joka-after-work-trophy-2/2026-04-23/
LOCATION:Golfclub Bad Abbach\, Am Deutenhof 2\, Bad Abbach\, 93077\, Deutschland
CATEGORIES:Turniere,Turnierkalender
ATTACH;FMTTYPE=image/jpeg:https://www.golf-emotion.eu/wp-content/uploads/GC-Bad-Abbach-3.jpg
ORGANIZER;CN="Golf Emotion":MAILTO:info@golf-emotion.eu
GEO:48.912933;12.003625
X-APPLE-STRUCTURED-LOCATION;VALUE=URI;X-ADDRESS=Golfclub Bad Abbach Am Deutenhof 2 Bad Abbach 93077 Deutschland;X-APPLE-RADIUS=500;X-TITLE=Am Deutenhof 2:geo:12.003625,48.912933
END:VEVENT
BEGIN:VEVENT
DTSTART;VALUE=DATE:20260423
DTEND;VALUE=DATE:20260424
DTSTAMP:20260423T115657
CREATED:20260302T164152Z
LAST-MODIFIED:20260302T164153Z
UID:10005070-1776902400-1776988799@www.golf-emotion.eu
SUMMARY:Golfclub Bad Arolsen JOKA After-Work Trophy
DESCRIPTION:
URL:https://www.golf-emotion.eu/event/golfclub-bad-arolsen-joka-after-work-trophy-2/2026-04-23/
LOCATION:Golfclub Bad Arolsen\, Zum Wiggenberg 33\, Bad Arolsen\, 34454\, Deutschland
CATEGORIES:Turniere,Turnierkalender
ATTACH;FMTTYPE=image/jpeg:https://www.golf-emotion.eu/wp-content/uploads/GC-Bad-Arolsen-2.jpg
ORGANIZER;CN="Golf Emotion":MAILTO:info@golf-emotion.eu
GEO:51.374379;9.05735
X-APPLE-STRUCTURED-LOCATION;VALUE=URI;X-ADDRESS=Golfclub Bad Arolsen Zum Wiggenberg 33 Bad Arolsen 34454 Deutschland;X-APPLE-RADIUS=500;X-TITLE=Zum Wiggenberg 33:geo:9.05735,51.374379
END:VEVENT
BEGIN:VEVENT
DTSTART;VALUE=DATE:20260423
DTEND;VALUE=DATE:20260424
DTSTAMP:20260423T115657
CREATED:20260302T165020Z
LAST-MODIFIED:20260302T165020Z
UID:10005079-1776902400-1776988799@www.golf-emotion.eu
SUMMARY:Golfclub Rheine-Mesum JOKA After-Work Trophy
DESCRIPTION:
URL:https://www.golf-emotion.eu/event/golfclub-rheine-mesum-joka-after-work-trophy/2026-04-23/
LOCATION:Golfclub Rheine-Mesum\, Wörstraße 201\, Rheine\, 48432\, Deutschland
CATEGORIES:Turniere,Turnierkalender
ATTACH;FMTTYPE=image/jpeg:https://www.golf-emotion.eu/wp-content/uploads/GC-Rheine-Mesum-4.jpg
ORGANIZER;CN="Golf Emotion":MAILTO:info@golf-emotion.eu
GEO:52.221665;7.468944
X-APPLE-STRUCTURED-LOCATION;VALUE=URI;X-ADDRESS=Golfclub Rheine-Mesum Wörstraße 201 Rheine 48432 Deutschland;X-APPLE-RADIUS=500;X-TITLE=Wörstraße 201:geo:7.468944,52.221665
END:VEVENT
END:VCALENDAR