BEGIN:VCALENDAR
VERSION:2.0
PRODID:-//Golf Emotion - ECPv6.15.12.2//NONSGML v1.0//EN
CALSCALE:GREGORIAN
METHOD:PUBLISH
X-ORIGINAL-URL:https://www.golf-emotion.eu
X-WR-CALDESC:Veranstaltungen für Golf Emotion
REFRESH-INTERVAL;VALUE=DURATION:PT1H
X-Robots-Tag:noindex
X-PUBLISHED-TTL:PT1H
BEGIN:VTIMEZONE
TZID:Europe/Berlin
BEGIN:DAYLIGHT
TZOFFSETFROM:+0100
TZOFFSETTO:+0200
TZNAME:CEST
DTSTART:20250330T010000
END:DAYLIGHT
BEGIN:STANDARD
TZOFFSETFROM:+0200
TZOFFSETTO:+0100
TZNAME:CET
DTSTART:20251026T010000
END:STANDARD
BEGIN:DAYLIGHT
TZOFFSETFROM:+0100
TZOFFSETTO:+0200
TZNAME:CEST
DTSTART:20260329T010000
END:DAYLIGHT
BEGIN:STANDARD
TZOFFSETFROM:+0200
TZOFFSETTO:+0100
TZNAME:CET
DTSTART:20261025T010000
END:STANDARD
BEGIN:DAYLIGHT
TZOFFSETFROM:+0100
TZOFFSETTO:+0200
TZNAME:CEST
DTSTART:20270328T010000
END:DAYLIGHT
BEGIN:STANDARD
TZOFFSETFROM:+0200
TZOFFSETTO:+0100
TZNAME:CET
DTSTART:20271031T010000
END:STANDARD
END:VTIMEZONE
BEGIN:VEVENT
DTSTART;VALUE=DATE:20260722
DTEND;VALUE=DATE:20260723
DTSTAMP:20260421T121504
CREATED:20240125T190611Z
LAST-MODIFIED:20251214T071551Z
UID:10003848-1784678400-1784764799@www.golf-emotion.eu
SUMMARY:Golfclub Wolfsburg JOKA Matchday-Plus Tagesturnier
DESCRIPTION:
URL:https://www.golf-emotion.eu/event/golfclub-wolfsburg-joka-after-work-trophy/
LOCATION:Golfclub Wolfsburg\, Oslosserweg 20\, Bokensdorf\, 38556\, Deutschland
CATEGORIES:Turniere,Turnierkalender
ATTACH;FMTTYPE=image/jpeg:https://www.golf-emotion.eu/wp-content/uploads/GC-Wolfsburg-3.jpg
ORGANIZER;CN="Golf Emotion":MAILTO:info@golf-emotion.eu
GEO:52.4902;10.7049
X-APPLE-STRUCTURED-LOCATION;VALUE=URI;X-ADDRESS=Golfclub Wolfsburg Oslosserweg 20 Bokensdorf 38556 Deutschland;X-APPLE-RADIUS=500;X-TITLE=Oslosserweg 20:geo:10.7049,52.4902
END:VEVENT
BEGIN:VEVENT
DTSTART;VALUE=DATE:20260722
DTEND;VALUE=DATE:20260723
DTSTAMP:20260421T121504
CREATED:20250201T070719Z
LAST-MODIFIED:20251215T040110Z
UID:10004490-1784678400-1784764799@www.golf-emotion.eu
SUMMARY:Golfclub Stiftland JOKA After-Work Trophy
DESCRIPTION:
URL:https://www.golf-emotion.eu/event/golfclub-stiftland-joka-after-work-trophy/
LOCATION:Golfclub Stiftland\, Ottengrün 50\, Bad Neualbenreuth\, 95698\, Deutschland
CATEGORIES:Turniere,Turnierkalender
ATTACH;FMTTYPE=image/jpeg:https://www.golf-emotion.eu/wp-content/uploads/GC-Stiftland.jpeg
ORGANIZER;CN="Golf Emotion":MAILTO:info@golf-emotion.eu
GEO:49.9600506;12.425703
X-APPLE-STRUCTURED-LOCATION;VALUE=URI;X-ADDRESS=Golfclub Stiftland Ottengrün 50 Bad Neualbenreuth 95698 Deutschland;X-APPLE-RADIUS=500;X-TITLE=Ottengrün 50:geo:12.425703,49.9600506
END:VEVENT
BEGIN:VEVENT
DTSTART;VALUE=DATE:20260722
DTEND;VALUE=DATE:20260723
DTSTAMP:20260421T121504
CREATED:20251214T105738Z
LAST-MODIFIED:20251214T105739Z
UID:10004737-1784678400-1784764799@www.golf-emotion.eu
SUMMARY:Golfclub Munster JOKA After-Work Trophy
DESCRIPTION:
URL:https://www.golf-emotion.eu/event/golfclub-munster-joka-after-work-trophy/2026-07-22/
LOCATION:Golfclub Munster\, Kohlenbissen 55\, Munster\, 29633\, Deutschland
CATEGORIES:Turniere,Turnierkalender
ATTACH;FMTTYPE=image/jpeg:https://www.golf-emotion.eu/wp-content/uploads/GC-Munster-3.jpg
ORGANIZER;CN="Golf Emotion":MAILTO:info@golf-emotion.eu
GEO:52.977599;10.140715
X-APPLE-STRUCTURED-LOCATION;VALUE=URI;X-ADDRESS=Golfclub Munster Kohlenbissen 55 Munster 29633 Deutschland;X-APPLE-RADIUS=500;X-TITLE=Kohlenbissen 55:geo:10.140715,52.977599
END:VEVENT
BEGIN:VEVENT
DTSTART;VALUE=DATE:20260722
DTEND;VALUE=DATE:20260723
DTSTAMP:20260421T121504
CREATED:20260108T083230Z
LAST-MODIFIED:20260108T083231Z
UID:10004887-1784678400-1784764799@www.golf-emotion.eu
SUMMARY:Golfclub Lütetsburg JOKA After Work -HeMiGo-
DESCRIPTION:
URL:https://www.golf-emotion.eu/event/golfclub-luetetsburg-joka-after-work-hemigo-3/2026-07-22/
LOCATION:Golfclub Schloss Lütetsburg\, Landstr.36\, Lütetsburg\, 26524\, Deutschland
CATEGORIES:Turniere,Turnierkalender
ATTACH;FMTTYPE=image/jpeg:https://www.golf-emotion.eu/wp-content/uploads/GC-Luetetsburg-5.jpg
ORGANIZER;CN="Golf Emotion":MAILTO:info@golf-emotion.eu
GEO:53.599388;7.258579
X-APPLE-STRUCTURED-LOCATION;VALUE=URI;X-ADDRESS=Golfclub Schloss Lütetsburg Landstr.36 Lütetsburg 26524 Deutschland;X-APPLE-RADIUS=500;X-TITLE=Landstr.36:geo:7.258579,53.599388
END:VEVENT
BEGIN:VEVENT
DTSTART;VALUE=DATE:20260722
DTEND;VALUE=DATE:20260723
DTSTAMP:20260421T121504
CREATED:20260330T113948Z
LAST-MODIFIED:20260330T113948Z
UID:10005120-1784678400-1784764799@www.golf-emotion.eu
SUMMARY:Golfclub Chemnitz JOKA After-Work Trophy
DESCRIPTION:
URL:https://www.golf-emotion.eu/event/golfclub-chemnitz-joka-after-work-trophy-2/2026-07-22/
LOCATION:Golfclub Chemnitz\, Wasserschlossweg 6\, Chemnitz\, 09123\, Deutschland
CATEGORIES:Turniere,Turnierkalender
ATTACH;FMTTYPE=image/jpeg:https://www.golf-emotion.eu/wp-content/uploads/GC-Chemnitz-5.jpg
ORGANIZER;CN="Golf Emotion":MAILTO:info@golf-emotion.eu
GEO:50.768995;12.889403
X-APPLE-STRUCTURED-LOCATION;VALUE=URI;X-ADDRESS=Golfclub Chemnitz Wasserschlossweg 6 Chemnitz 09123 Deutschland;X-APPLE-RADIUS=500;X-TITLE=Wasserschlossweg 6:geo:12.889403,50.768995
END:VEVENT
BEGIN:VEVENT
DTSTART;VALUE=DATE:20260723
DTEND;VALUE=DATE:20260724
DTSTAMP:20260421T121504
CREATED:20260108T103532Z
LAST-MODIFIED:20260108T103533Z
UID:10004893-1784764800-1784851199@www.golf-emotion.eu
SUMMARY:Golfclub Curau JOKA After-Work Trophy
DESCRIPTION:
URL:https://www.golf-emotion.eu/event/golfclub-curau-joka-after-work-trophy-2/2026-07-23/
LOCATION:Golfclub Curau\, Malkendorferweg 18\, Stockelsdorf\, 23617\, Deutschland
CATEGORIES:Turniere,Turnierkalender
ATTACH;FMTTYPE=image/jpeg:https://www.golf-emotion.eu/wp-content/uploads/GC-Curau-2.jpeg
ORGANIZER;CN="Golf Emotion":MAILTO:info@golf-emotion.eu
GEO:53.9518;10.624
X-APPLE-STRUCTURED-LOCATION;VALUE=URI;X-ADDRESS=Golfclub Curau Malkendorferweg 18 Stockelsdorf 23617 Deutschland;X-APPLE-RADIUS=500;X-TITLE=Malkendorferweg 18:geo:10.624,53.9518
END:VEVENT
BEGIN:VEVENT
DTSTART;VALUE=DATE:20260723
DTEND;VALUE=DATE:20260724
DTSTAMP:20260421T121504
CREATED:20260207T054742Z
LAST-MODIFIED:20260207T054742Z
UID:10005044-1784764800-1784851199@www.golf-emotion.eu
SUMMARY:Golf am Haus Amecke JOKA After-Work Trophy
DESCRIPTION:
URL:https://www.golf-emotion.eu/event/golf-am-haus-amecke-joka-after-work-trophy-2/2026-07-23/
LOCATION:Golf am Haus Amecke\, Haus Amecke\, Sundern\, 59846\, Deutschland
CATEGORIES:Turniere,Turnierkalender
ATTACH;FMTTYPE=image/jpeg:https://www.golf-emotion.eu/wp-content/uploads/GC-Amecke-2.jpeg
ORGANIZER;CN="Golf Emotion":MAILTO:info@golf-emotion.eu
GEO:51.29633;7.94858
X-APPLE-STRUCTURED-LOCATION;VALUE=URI;X-ADDRESS=Golf am Haus Amecke Haus Amecke Sundern 59846 Deutschland;X-APPLE-RADIUS=500;X-TITLE=Haus Amecke:geo:7.94858,51.29633
END:VEVENT
BEGIN:VEVENT
DTSTART;VALUE=DATE:20260723
DTEND;VALUE=DATE:20260724
DTSTAMP:20260421T121504
CREATED:20260302T165607Z
LAST-MODIFIED:20260302T165607Z
UID:10005086-1784764800-1784851199@www.golf-emotion.eu
SUMMARY:Golfclub Rheine-Mesum JOKA After-Work Trophy
DESCRIPTION:
URL:https://www.golf-emotion.eu/event/golfclub-rheine-mesum-joka-after-work-trophy-4/2026-07-23/
LOCATION:Golfclub Rheine-Mesum\, Wörstraße 201\, Rheine\, 48432\, Deutschland
CATEGORIES:Turniere,Turnierkalender
ATTACH;FMTTYPE=image/jpeg:https://www.golf-emotion.eu/wp-content/uploads/GC-Rheine-Mesum-4.jpg
ORGANIZER;CN="Golf Emotion":MAILTO:info@golf-emotion.eu
GEO:52.221665;7.468944
X-APPLE-STRUCTURED-LOCATION;VALUE=URI;X-ADDRESS=Golfclub Rheine-Mesum Wörstraße 201 Rheine 48432 Deutschland;X-APPLE-RADIUS=500;X-TITLE=Wörstraße 201:geo:7.468944,52.221665
END:VEVENT
BEGIN:VEVENT
DTSTART;VALUE=DATE:20260724
DTEND;VALUE=DATE:20260725
DTSTAMP:20260421T121504
CREATED:20240125T125605Z
LAST-MODIFIED:20251224T064802Z
UID:10004746-1784851200-1784937599@www.golf-emotion.eu
SUMMARY:Golfclub Plauen JOKA After-Work Trophy
DESCRIPTION:
URL:https://www.golf-emotion.eu/event/golfclub-plauen-joka-after-wok-trophy/2026-07-24/
LOCATION:Golfclub Plauen\, Cossengrünerstr.\, Plauen\, 08547\, Deutschland
CATEGORIES:Turniere,Turnierkalender
ATTACH;FMTTYPE=image/jpeg:https://www.golf-emotion.eu/wp-content/uploads/GC-Plauen-2.jpg
ORGANIZER;CN="Golf Emotion":MAILTO:info@golf-emotion.eu
GEO:50.497483;12.120546
X-APPLE-STRUCTURED-LOCATION;VALUE=URI;X-ADDRESS=Golfclub Plauen Cossengrünerstr. Plauen 08547 Deutschland;X-APPLE-RADIUS=500;X-TITLE=Cossengrünerstr.:geo:12.120546,50.497483
END:VEVENT
BEGIN:VEVENT
DTSTART;VALUE=DATE:20260724
DTEND;VALUE=DATE:20260725
DTSTAMP:20260421T121504
CREATED:20240206T162116Z
LAST-MODIFIED:20260107T164607Z
UID:10004868-1784851200-1784937599@www.golf-emotion.eu
SUMMARY:Golfclub Hetzenhof JOKA After-Work Trophy
DESCRIPTION:
URL:https://www.golf-emotion.eu/event/golfclub-hetzenhof-joka-after-work-trophy/2026-07-24/
LOCATION:Golfclub Hetzenhof\, Hetzenhof 7\, Lorch\, 73547\, Deutschland
CATEGORIES:Turniere,Turnierkalender
ATTACH;FMTTYPE=image/jpeg:https://www.golf-emotion.eu/wp-content/uploads/GC-Hetzenhof-Neu-1.jpg
ORGANIZER;CN="Golf Emotion":MAILTO:info@golf-emotion.eu
GEO:48.78088;9.688788
X-APPLE-STRUCTURED-LOCATION;VALUE=URI;X-ADDRESS=Golfclub Hetzenhof Hetzenhof 7 Lorch 73547 Deutschland;X-APPLE-RADIUS=500;X-TITLE=Hetzenhof 7:geo:9.688788,48.78088
END:VEVENT
BEGIN:VEVENT
DTSTART;VALUE=DATE:20260724
DTEND;VALUE=DATE:20260725
DTSTAMP:20260421T121504
CREATED:20250116T154705Z
LAST-MODIFIED:20260302T160333Z
UID:10005068-1784851200-1784937599@www.golf-emotion.eu
SUMMARY:1.Golfclub Westpfalz JOKA After-Work Trophy
DESCRIPTION:
URL:https://www.golf-emotion.eu/event/1-golfclub-westpfalz-joka-after-work-trophy/2026-07-24/
LOCATION:Golfclub Wespfalz\, Hitscherhof\, Maßweiler\, 66506\, Deutschland
CATEGORIES:Turniere,Turnierkalender
ATTACH;FMTTYPE=image/jpeg:https://www.golf-emotion.eu/wp-content/uploads/GC-Westpfalz-3.jpg
ORGANIZER;CN="Golf Emotion":MAILTO:info@golf-emotion.eu
GEO:49.2501984;7.5296562
X-APPLE-STRUCTURED-LOCATION;VALUE=URI;X-ADDRESS=Golfclub Wespfalz Hitscherhof Maßweiler 66506 Deutschland;X-APPLE-RADIUS=500;X-TITLE=Hitscherhof:geo:7.5296562,49.2501984
END:VEVENT
BEGIN:VEVENT
DTSTART;VALUE=DATE:20260724
DTEND;VALUE=DATE:20260725
DTSTAMP:20260421T121504
CREATED:20250130T104020Z
LAST-MODIFIED:20260116T165423Z
UID:10004955-1784851200-1784937599@www.golf-emotion.eu
SUMMARY:Golfclub Rehburg-Loccum JOKA After-Work Trophy
DESCRIPTION:
URL:https://www.golf-emotion.eu/event/golfclub-rehburg-loccum-joka-after-work-trophy/2026-07-24/
LOCATION:Golfclub Rehburg-Loccum\, Hormannshausen 2a\, Rehburg-Loccum\, 31547\, Deutschland
CATEGORIES:Turniere,Turnierkalender
ATTACH;FMTTYPE=image/jpeg:https://www.golf-emotion.eu/wp-content/uploads/GC-Rehburg-Loccum-4.jpg
ORGANIZER;CN="Golf Emotion":MAILTO:info@golf-emotion.eu
GEO:52.461516;9.175843
X-APPLE-STRUCTURED-LOCATION;VALUE=URI;X-ADDRESS=Golfclub Rehburg-Loccum Hormannshausen 2a Rehburg-Loccum 31547 Deutschland;X-APPLE-RADIUS=500;X-TITLE=Hormannshausen 2a:geo:9.175843,52.461516
END:VEVENT
BEGIN:VEVENT
DTSTART;VALUE=DATE:20260724
DTEND;VALUE=DATE:20260725
DTSTAMP:20260421T121504
CREATED:20251214T052005Z
LAST-MODIFIED:20251214T052005Z
UID:10004639-1784851200-1784937599@www.golf-emotion.eu
SUMMARY:Golfclub Bad Kissingen Joka After-Work Trophy
DESCRIPTION:
URL:https://www.golf-emotion.eu/event/golfclub-bad-kissingen-joka-after-work-trophy/2026-07-24/
LOCATION:Golfclub Bad Kissingen\, Euerdorferstr. 11d\, Bad Kissingen\, 97688\, Deutschland
CATEGORIES:Turniere,Turnierkalender
ATTACH;FMTTYPE=image/jpeg:https://www.golf-emotion.eu/wp-content/uploads/GC-Bad-Kissingen-2.jpg
ORGANIZER;CN="Golf Emotion":MAILTO:info@golf-emotion.eu
GEO:50.177407;10.071361
X-APPLE-STRUCTURED-LOCATION;VALUE=URI;X-ADDRESS=Golfclub Bad Kissingen Euerdorferstr. 11d Bad Kissingen 97688 Deutschland;X-APPLE-RADIUS=500;X-TITLE=Euerdorferstr. 11d:geo:10.071361,50.177407
END:VEVENT
BEGIN:VEVENT
DTSTART;VALUE=DATE:20260724
DTEND;VALUE=DATE:20260725
DTSTAMP:20260421T121504
CREATED:20251214T081852Z
LAST-MODIFIED:20251214T081852Z
UID:10004683-1784851200-1784937599@www.golf-emotion.eu
SUMMARY:Golfclub Zum Fischland JOKA After-Work Trophy
DESCRIPTION:
URL:https://www.golf-emotion.eu/event/golfclub-zum-fischland-joka-after-work-trophy/2026-07-24/
LOCATION:Golfclub Zum Fischland\, Pappelalle 23a\, Ribnitz-Damgarten\, 18311\, Deutschland
CATEGORIES:Turniere,Turnierkalender
ATTACH;FMTTYPE=image/jpeg:https://www.golf-emotion.eu/wp-content/uploads/GC-Zum-Fischland.jpg
ORGANIZER;CN="Golf Emotion":MAILTO:info@golf-emotion.eu
GEO:54.225546;12.400754
X-APPLE-STRUCTURED-LOCATION;VALUE=URI;X-ADDRESS=Golfclub Zum Fischland Pappelalle 23a Ribnitz-Damgarten 18311 Deutschland;X-APPLE-RADIUS=500;X-TITLE=Pappelalle 23a:geo:12.400754,54.225546
END:VEVENT
BEGIN:VEVENT
DTSTART;VALUE=DATE:20260724
DTEND;VALUE=DATE:20260725
DTSTAMP:20260421T121504
CREATED:20251214T164715Z
LAST-MODIFIED:20251214T164715Z
UID:10004776-1784851200-1784937599@www.golf-emotion.eu
SUMMARY:Golfclub Sinsheim-Buchenauerhof JOKA After-Work Trophy
DESCRIPTION:
URL:https://www.golf-emotion.eu/event/golfclub-sinsheim-buchenauerhof-joka-after-work-trophy-2/2026-07-24/
LOCATION:Golfclub Sinsheim\, Buchenauerhof 4\, Sinsheim-Weiler\, 74889\, Deutschland
CATEGORIES:Turniere,Turnierkalender
ATTACH;FMTTYPE=image/jpeg:https://www.golf-emotion.eu/wp-content/uploads/GC-Sinsheim-4.jpg
ORGANIZER;CN="Golf Emotion":MAILTO:info@golf-emotion.eu
GEO:49.206581;8.826524
X-APPLE-STRUCTURED-LOCATION;VALUE=URI;X-ADDRESS=Golfclub Sinsheim Buchenauerhof 4 Sinsheim-Weiler 74889 Deutschland;X-APPLE-RADIUS=500;X-TITLE=Buchenauerhof 4:geo:8.826524,49.206581
END:VEVENT
BEGIN:VEVENT
DTSTART;VALUE=DATE:20260724
DTEND;VALUE=DATE:20260725
DTSTAMP:20260421T121504
CREATED:20251215T035334Z
LAST-MODIFIED:20251215T035334Z
UID:10004780-1784851200-1784937599@www.golf-emotion.eu
SUMMARY:Golfclub Stadtwald JOKA After-Work Trophy
DESCRIPTION:
URL:https://www.golf-emotion.eu/event/golfclub-stadtwald-joka-after-work-trophy-2/2026-07-24/
LOCATION:Golfclub Stadtwald Krefeld\, Hüttenallee 188\, Krefeld\, 47800\, Deutschland
CATEGORIES:Turniere,Turnierkalender
ATTACH;FMTTYPE=image/jpeg:https://www.golf-emotion.eu/wp-content/uploads/GC-Stadtwald-2.jpg
ORGANIZER;CN="Golf Emotion":MAILTO:info@golf-emotion.eu
GEO:51.355934;6.587969
X-APPLE-STRUCTURED-LOCATION;VALUE=URI;X-ADDRESS=Golfclub Stadtwald Krefeld Hüttenallee 188 Krefeld 47800 Deutschland;X-APPLE-RADIUS=500;X-TITLE=Hüttenallee 188:geo:6.587969,51.355934
END:VEVENT
BEGIN:VEVENT
DTSTART;VALUE=DATE:20260724
DTEND;VALUE=DATE:20260725
DTSTAMP:20260421T121504
CREATED:20260106T125410Z
LAST-MODIFIED:20260106T125410Z
UID:10004832-1784851200-1784937599@www.golf-emotion.eu
SUMMARY:Golfclub Bad Pyrmont JOKA After Work Trophy
DESCRIPTION:
URL:https://www.golf-emotion.eu/event/golfclub-bad-pyrmont-joka-after-work-trophy/2026-07-24/
LOCATION:Golfclub Bad Pyrmont\, Am Golfplatz 2\, Lügde\, 32676\, Deutschland
CATEGORIES:Turniere,Turnierkalender
ATTACH;FMTTYPE=image/jpeg:https://www.golf-emotion.eu/wp-content/uploads/GC-Bad-Pyrmont-2.jpg
ORGANIZER;CN="Golf Emotion":MAILTO:info@golf-emotion.eu
GEO:51.9637;9.22359
X-APPLE-STRUCTURED-LOCATION;VALUE=URI;X-ADDRESS=Golfclub Bad Pyrmont Am Golfplatz 2 Lügde 32676 Deutschland;X-APPLE-RADIUS=500;X-TITLE=Am Golfplatz 2:geo:9.22359,51.9637
END:VEVENT
BEGIN:VEVENT
DTSTART;VALUE=DATE:20260724
DTEND;VALUE=DATE:20260725
DTSTAMP:20260421T121504
CREATED:20260108T054418Z
LAST-MODIFIED:20260108T054418Z
UID:10004872-1784851200-1784937599@www.golf-emotion.eu
SUMMARY:Golfclub Lauterbach JOKA After-Work Trophy
DESCRIPTION:
URL:https://www.golf-emotion.eu/event/golfclub-lauterbach-joka-after-work-trophy-2/2026-07-24/
LOCATION:Golfclub Lauterbach\, Hofstr.9\, Lauterbach\, 36341\, Deutschland
CATEGORIES:Turniere,Turnierkalender
ATTACH;FMTTYPE=image/jpeg:https://www.golf-emotion.eu/wp-content/uploads/GC-Lauterbach-5.jpg
ORGANIZER;CN="Golf Emotion":MAILTO:info@golf-emotion.eu
GEO:50.639588;9.350135
X-APPLE-STRUCTURED-LOCATION;VALUE=URI;X-ADDRESS=Golfclub Lauterbach Hofstr.9 Lauterbach 36341 Deutschland;X-APPLE-RADIUS=500;X-TITLE=Hofstr.9:geo:9.350135,50.639588
END:VEVENT
BEGIN:VEVENT
DTSTART;VALUE=DATE:20260724
DTEND;VALUE=DATE:20260725
DTSTAMP:20260421T121504
CREATED:20260109T145517Z
LAST-MODIFIED:20260109T145518Z
UID:10004910-1784851200-1784937599@www.golf-emotion.eu
SUMMARY:Golfclub Bad Mergentheim JOKA After-Work Trophy
DESCRIPTION:
URL:https://www.golf-emotion.eu/event/golfclub-bad-mergentheim-joka-after-work-trophy/2026-07-24/
LOCATION:Golfclub Bad Mergentheim\, Erlenbachtalstr. 36\, Igersheim\, 97999\, Deutschland
CATEGORIES:Turniere,Turnierkalender
ATTACH;FMTTYPE=image/jpeg:https://www.golf-emotion.eu/wp-content/uploads/GC-Bad-Mergentheim-2.jpg
ORGANIZER;CN="Golf Emotion":MAILTO:info@golf-emotion.eu
GEO:49.499296;9.79766
X-APPLE-STRUCTURED-LOCATION;VALUE=URI;X-ADDRESS=Golfclub Bad Mergentheim Erlenbachtalstr. 36 Igersheim 97999 Deutschland;X-APPLE-RADIUS=500;X-TITLE=Erlenbachtalstr. 36:geo:9.79766,49.499296
END:VEVENT
BEGIN:VEVENT
DTSTART;VALUE=DATE:20260724
DTEND;VALUE=DATE:20260725
DTSTAMP:20260421T121504
CREATED:20260122T070108Z
LAST-MODIFIED:20260122T070108Z
UID:10004987-1784851200-1784937599@www.golf-emotion.eu
SUMMARY:Golfclub Berchtesgaden JOKA After-Work Trophy
DESCRIPTION:
URL:https://www.golf-emotion.eu/event/golfclub-berchtesgaden-joka-after-work-trophy-3/
LOCATION:Golfclub Berchtesgaden\, Salzbergstrasse 33\, Berchtesgaden\, 83471\, Deutschland
CATEGORIES:Turniere,Turnierkalender
ATTACH;FMTTYPE=image/jpeg:https://www.golf-emotion.eu/wp-content/uploads/GC-Berchtesgaden-.jpg
ORGANIZER;CN="Golf Emotion":MAILTO:info@golf-emotion.eu
END:VEVENT
BEGIN:VEVENT
DTSTART;VALUE=DATE:20260725
DTEND;VALUE=DATE:20260726
DTSTAMP:20260421T121504
CREATED:20230126T174523Z
LAST-MODIFIED:20251214T062525Z
UID:10003503-1784937600-1785023999@www.golf-emotion.eu
SUMMARY:Golfclub Magdeburg JOKA Matchday-Plus 2er Texas-Scramble Tagesturnier
DESCRIPTION:
URL:https://www.golf-emotion.eu/event/golfclub-magdeburg-joka-matchday-plus-2er-texas-scramble-tagesturnier/
LOCATION:Golfclub Magdeburg\, Herrenkrug 4\, Magdeburg\, 39114\, Deutschland
CATEGORIES:Turniere,Turnierkalender
ATTACH;FMTTYPE=image/jpeg:https://www.golf-emotion.eu/wp-content/uploads/GC-Magdeburg-3.jpg
ORGANIZER;CN="Golf Emotion":MAILTO:info@golf-emotion.eu
GEO:52.148063;11.682091
X-APPLE-STRUCTURED-LOCATION;VALUE=URI;X-ADDRESS=Golfclub Magdeburg Herrenkrug 4 Magdeburg 39114 Deutschland;X-APPLE-RADIUS=500;X-TITLE=Herrenkrug 4:geo:11.682091,52.148063
END:VEVENT
BEGIN:VEVENT
DTSTART;VALUE=DATE:20260725
DTEND;VALUE=DATE:20260726
DTSTAMP:20260421T121504
CREATED:20240125T074813Z
LAST-MODIFIED:20260121T155912Z
UID:10003667-1784937600-1785023999@www.golf-emotion.eu
SUMMARY:Golfclub Dresden-Elbflorenz JOKA 2er Texas-Scramble Tagesturnier
DESCRIPTION:
URL:https://www.golf-emotion.eu/event/golfclub-dresden-elbflorenz-joka-after-work-trophy-2/
LOCATION:Golfclub Dresden-Elbflorenz\, Ferdinand-von-Schill-Str.4a\, Bannewitz\, 1728\, Deutschland
CATEGORIES:Turniere,Turnierkalender
ATTACH;FMTTYPE=image/jpeg:https://www.golf-emotion.eu/wp-content/uploads/GC-Dresden-Elbflorenz-2.jpg
ORGANIZER;CN="Golf Emotion":MAILTO:info@golf-emotion.eu
GEO:50.984984;13.702138
X-APPLE-STRUCTURED-LOCATION;VALUE=URI;X-ADDRESS=Golfclub Dresden-Elbflorenz Ferdinand-von-Schill-Str.4a Bannewitz 1728 Deutschland;X-APPLE-RADIUS=500;X-TITLE=Ferdinand-von-Schill-Str.4a:geo:13.702138,50.984984
END:VEVENT
BEGIN:VEVENT
DTSTART;VALUE=DATE:20260725
DTEND;VALUE=DATE:20260726
DTSTAMP:20260421T121504
CREATED:20251214T155953Z
LAST-MODIFIED:20251214T155953Z
UID:10004756-1784937600-1785023999@www.golf-emotion.eu
SUMMARY:Golfclub Ruhpolding JOKA Matchday-Plus 2er Texas-Scramble Tagesturnier
DESCRIPTION:
URL:https://www.golf-emotion.eu/event/golfclub-ruhpolding-joka-matchday-plus-2er-texas-scramble-tagesturnier/
LOCATION:Golfclub Ruhpolding\, Rauschbergstr.1a\, Ruhpolding\, 83324\, Deutschland
CATEGORIES:Turniere,Turnierkalender
ATTACH;FMTTYPE=image/jpeg:https://www.golf-emotion.eu/wp-content/uploads/GC-Ruhpolding-4.jpg
ORGANIZER;CN="Golf Emotion":MAILTO:info@golf-emotion.eu
GEO:47.749769;12.66932
X-APPLE-STRUCTURED-LOCATION;VALUE=URI;X-ADDRESS=Golfclub Ruhpolding Rauschbergstr.1a Ruhpolding 83324 Deutschland;X-APPLE-RADIUS=500;X-TITLE=Rauschbergstr.1a:geo:12.66932,47.749769
END:VEVENT
BEGIN:VEVENT
DTSTART;VALUE=DATE:20260726
DTEND;VALUE=DATE:20260727
DTSTAMP:20260421T121504
CREATED:20221228T074702Z
LAST-MODIFIED:20251224T064539Z
UID:10003444-1785024000-1785110399@www.golf-emotion.eu
SUMMARY:Golfclub Osnabrück-Dütetal JOKA Matchday-Plus Tagesturnier
DESCRIPTION:
URL:https://www.golf-emotion.eu/event/golfclub-osnabrueck-duetetal-joka-matchday-plus-tagesturnier/
LOCATION:Golfclub Osnabrück-Dütetal\, Wersenerstr.17\, Lotte\, 49504\, Deutschland
CATEGORIES:Turniere,Turnierkalender
ATTACH;FMTTYPE=image/jpeg:https://www.golf-emotion.eu/wp-content/uploads/GC-Duetetal-1.jpg
ORGANIZER;CN="Golf Emotion":MAILTO:info@golf-emotion.eu
GEO:52.3025;7.92332
X-APPLE-STRUCTURED-LOCATION;VALUE=URI;X-ADDRESS=Golfclub Osnabrück-Dütetal Wersenerstr.17 Lotte 49504 Deutschland;X-APPLE-RADIUS=500;X-TITLE=Wersenerstr.17:geo:7.92332,52.3025
END:VEVENT
BEGIN:VEVENT
DTSTART;VALUE=DATE:20260726
DTEND;VALUE=DATE:20260727
DTSTAMP:20260421T121504
CREATED:20250123T163633Z
LAST-MODIFIED:20260303T162709Z
UID:10004447-1785024000-1785110399@www.golf-emotion.eu
SUMMARY:Golfclub Bad Salzdetfurth JOKA Matchday-Plus Tagesturnier
DESCRIPTION:
URL:https://www.golf-emotion.eu/event/golfclub-bad-salzdetfurth-joka-matchday-plus-tagesturnier-2/
LOCATION:Golfclub Bad Salzdetfurth\, Dr.Jochen Schneider Weg 1\, Bad Salzdetfurth\, 31162\, Deutschland
CATEGORIES:Turniere,Turnierkalender
ATTACH;FMTTYPE=image/jpeg:https://www.golf-emotion.eu/wp-content/uploads/GC-Bad-Salzdetfurth.jpg
ORGANIZER;CN="Golf Emotion":MAILTO:info@golf-emotion.eu
GEO:52.06639;10.05205
X-APPLE-STRUCTURED-LOCATION;VALUE=URI;X-ADDRESS=Golfclub Bad Salzdetfurth Dr.Jochen Schneider Weg 1 Bad Salzdetfurth 31162 Deutschland;X-APPLE-RADIUS=500;X-TITLE=Dr.Jochen Schneider Weg 1:geo:10.05205,52.06639
END:VEVENT
BEGIN:VEVENT
DTSTART;VALUE=DATE:20260726
DTEND;VALUE=DATE:20260727
DTSTAMP:20260421T121504
CREATED:20250127T170840Z
LAST-MODIFIED:20251214T083830Z
UID:10004705-1785024000-1785110399@www.golf-emotion.eu
SUMMARY:Golfclub Hamburg Gut Waldhof JOKA After-Work Trophy
DESCRIPTION:
URL:https://www.golf-emotion.eu/event/golfclub-hamburg-gut-waldhof-joka-after-work-trophy-5/2026-07-26/
LOCATION:Golfclub Hamburg Gut Waldhof\, Am Waldhof 3\, Kisdorf\, 24629\, Deutschland
CATEGORIES:Turniere,Turnierkalender
ATTACH;FMTTYPE=image/jpeg:https://www.golf-emotion.eu/wp-content/uploads/GC-Gut-Waldhof.jpg
ORGANIZER;CN="Golf Emotion":MAILTO:info@golf-emotion.eu
GEO:53.81517;10.08793
X-APPLE-STRUCTURED-LOCATION;VALUE=URI;X-ADDRESS=Golfclub Hamburg Gut Waldhof Am Waldhof 3 Kisdorf 24629 Deutschland;X-APPLE-RADIUS=500;X-TITLE=Am Waldhof 3:geo:10.08793,53.81517
END:VEVENT
BEGIN:VEVENT
DTSTART;VALUE=DATE:20260726
DTEND;VALUE=DATE:20260727
DTSTAMP:20260421T121504
CREATED:20250311T141730Z
LAST-MODIFIED:20260122T062046Z
UID:10004584-1785024000-1785110399@www.golf-emotion.eu
SUMMARY:Golfclub Rickenbach JOKA Matchday-Plus Tagesturnier
DESCRIPTION:
URL:https://www.golf-emotion.eu/event/golfclub-rickenbach-joka-after-work-trophy-finale/
LOCATION:Golfclub Rickenbach\, Hennematt 20\, Rickenbach\, 79736\, Deutschland
CATEGORIES:Turniere,Turnierkalender
ATTACH;FMTTYPE=image/jpeg:https://www.golf-emotion.eu/wp-content/uploads/GC-Rickenbach-2.jpg
ORGANIZER;CN="Golf Emotion":MAILTO:info@golf-emotion.eu
GEO:47.62662;7.99041
X-APPLE-STRUCTURED-LOCATION;VALUE=URI;X-ADDRESS=Golfclub Rickenbach Hennematt 20 Rickenbach 79736 Deutschland;X-APPLE-RADIUS=500;X-TITLE=Hennematt 20:geo:7.99041,47.62662
END:VEVENT
BEGIN:VEVENT
DTSTART;VALUE=DATE:20260726
DTEND;VALUE=DATE:20260727
DTSTAMP:20260421T121504
CREATED:20260202T131817Z
LAST-MODIFIED:20260202T131817Z
UID:10005023-1785024000-1785110399@www.golf-emotion.eu
SUMMARY:Golfclub Siegerland JOKA After-Work Trophy
DESCRIPTION:
URL:https://www.golf-emotion.eu/event/golfclub-siegerland-joka-after-work-trophy-3/2026-07-26/
LOCATION:Golfclub Siegerland\, Berghäuserweg\, Kreuztal\, 57223\, Deutschland
CATEGORIES:Turniere,Turnierkalender
ATTACH;FMTTYPE=image/jpeg:https://www.golf-emotion.eu/wp-content/uploads/GC-Siegerland-5.jpg
ORGANIZER;CN="Golf Emotion":MAILTO:info@golf-emotion.eu
GEO:50.950536;7.953726
X-APPLE-STRUCTURED-LOCATION;VALUE=URI;X-ADDRESS=Golfclub Siegerland Berghäuserweg Kreuztal 57223 Deutschland;X-APPLE-RADIUS=500;X-TITLE=Berghäuserweg:geo:7.953726,50.950536
END:VEVENT
BEGIN:VEVENT
DTSTART;VALUE=DATE:20260729
DTEND;VALUE=DATE:20260730
DTSTAMP:20260421T121504
CREATED:20251214T162029Z
LAST-MODIFIED:20251214T162030Z
UID:10004765-1785283200-1785369599@www.golf-emotion.eu
SUMMARY:Golfclub Ruhpolding JOKA After-Work Trophy
DESCRIPTION:
URL:https://www.golf-emotion.eu/event/golfclub-ruhpolding-joka-after-work-trophy-5/2026-07-29/
LOCATION:Golfclub Ruhpolding\, Rauschbergstr.1a\, Ruhpolding\, 83324\, Deutschland
CATEGORIES:Turniere,Turnierkalender
ATTACH;FMTTYPE=image/jpeg:https://www.golf-emotion.eu/wp-content/uploads/GC-Ruhpolding-5.jpg
ORGANIZER;CN="Golf Emotion":MAILTO:info@golf-emotion.eu
GEO:47.749769;12.66932
X-APPLE-STRUCTURED-LOCATION;VALUE=URI;X-ADDRESS=Golfclub Ruhpolding Rauschbergstr.1a Ruhpolding 83324 Deutschland;X-APPLE-RADIUS=500;X-TITLE=Rauschbergstr.1a:geo:12.66932,47.749769
END:VEVENT
BEGIN:VEVENT
DTSTART;VALUE=DATE:20260729
DTEND;VALUE=DATE:20260730
DTSTAMP:20260421T121504
CREATED:20260108T080026Z
LAST-MODIFIED:20260108T080026Z
UID:10004883-1785283200-1785369599@www.golf-emotion.eu
SUMMARY:Golfclub Lütetsburg JOKA After Work -HeMiGo-
DESCRIPTION:
URL:https://www.golf-emotion.eu/event/golfclub-luetetsburg-joka-after-work-hemigo/
LOCATION:Golfclub Schloss Lütetsburg\, Landstr.36\, Lütetsburg\, 26524\, Deutschland
CATEGORIES:Turniere,Turnierkalender
ATTACH;FMTTYPE=image/jpeg:https://www.golf-emotion.eu/wp-content/uploads/GC-Luetetsburg-5.jpg
ORGANIZER;CN="Golf Emotion":MAILTO:info@golf-emotion.eu
GEO:53.599388;7.258579
X-APPLE-STRUCTURED-LOCATION;VALUE=URI;X-ADDRESS=Golfclub Schloss Lütetsburg Landstr.36 Lütetsburg 26524 Deutschland;X-APPLE-RADIUS=500;X-TITLE=Landstr.36:geo:7.258579,53.599388
END:VEVENT
END:VCALENDAR