BEGIN:VCALENDAR
VERSION:2.0
PRODID:-//Golf Emotion - ECPv6.15.12.2//NONSGML v1.0//EN
CALSCALE:GREGORIAN
METHOD:PUBLISH
X-WR-CALNAME:Golf Emotion
X-ORIGINAL-URL:https://www.golf-emotion.eu
X-WR-CALDESC:Veranstaltungen für Golf Emotion
REFRESH-INTERVAL;VALUE=DURATION:PT1H
X-Robots-Tag:noindex
X-PUBLISHED-TTL:PT1H
BEGIN:VTIMEZONE
TZID:Europe/Berlin
BEGIN:DAYLIGHT
TZOFFSETFROM:+0100
TZOFFSETTO:+0200
TZNAME:CEST
DTSTART:20250330T010000
END:DAYLIGHT
BEGIN:STANDARD
TZOFFSETFROM:+0200
TZOFFSETTO:+0100
TZNAME:CET
DTSTART:20251026T010000
END:STANDARD
BEGIN:DAYLIGHT
TZOFFSETFROM:+0100
TZOFFSETTO:+0200
TZNAME:CEST
DTSTART:20260329T010000
END:DAYLIGHT
BEGIN:STANDARD
TZOFFSETFROM:+0200
TZOFFSETTO:+0100
TZNAME:CET
DTSTART:20261025T010000
END:STANDARD
BEGIN:DAYLIGHT
TZOFFSETFROM:+0100
TZOFFSETTO:+0200
TZNAME:CEST
DTSTART:20270328T010000
END:DAYLIGHT
BEGIN:STANDARD
TZOFFSETFROM:+0200
TZOFFSETTO:+0100
TZNAME:CET
DTSTART:20271031T010000
END:STANDARD
END:VTIMEZONE
BEGIN:VEVENT
DTSTART;VALUE=DATE:20260528
DTEND;VALUE=DATE:20260529
DTSTAMP:20260423T134155
CREATED:20260207T054553Z
LAST-MODIFIED:20260207T054554Z
UID:10005041-1779926400-1780012799@www.golf-emotion.eu
SUMMARY:Golf am Haus Amecke JOKA After-Work Trophy
DESCRIPTION:
URL:https://www.golf-emotion.eu/event/golf-am-haus-amecke-joka-after-work-trophy/2026-05-28/
LOCATION:Golf am Haus Amecke\, Haus Amecke\, Sundern\, 59846\, Deutschland
CATEGORIES:Turniere,Turnierkalender
ATTACH;FMTTYPE=image/jpeg:https://www.golf-emotion.eu/wp-content/uploads/GC-Amecke-2.jpeg
ORGANIZER;CN="Golf Emotion":MAILTO:info@golf-emotion.eu
GEO:51.29633;7.94858
X-APPLE-STRUCTURED-LOCATION;VALUE=URI;X-ADDRESS=Golf am Haus Amecke Haus Amecke Sundern 59846 Deutschland;X-APPLE-RADIUS=500;X-TITLE=Haus Amecke:geo:7.94858,51.29633
END:VEVENT
BEGIN:VEVENT
DTSTART;VALUE=DATE:20260618
DTEND;VALUE=DATE:20260619
DTSTAMP:20260423T134155
CREATED:20260207T054553Z
LAST-MODIFIED:20260207T054554Z
UID:10005042-1781740800-1781827199@www.golf-emotion.eu
SUMMARY:Golf am Haus Amecke JOKA After-Work Trophy
DESCRIPTION:
URL:https://www.golf-emotion.eu/event/golf-am-haus-amecke-joka-after-work-trophy/2026-06-18/
LOCATION:Golf am Haus Amecke\, Haus Amecke\, Sundern\, 59846\, Deutschland
CATEGORIES:Turniere,Turnierkalender
ATTACH;FMTTYPE=image/jpeg:https://www.golf-emotion.eu/wp-content/uploads/GC-Amecke-2.jpeg
ORGANIZER;CN="Golf Emotion":MAILTO:info@golf-emotion.eu
GEO:51.29633;7.94858
X-APPLE-STRUCTURED-LOCATION;VALUE=URI;X-ADDRESS=Golf am Haus Amecke Haus Amecke Sundern 59846 Deutschland;X-APPLE-RADIUS=500;X-TITLE=Haus Amecke:geo:7.94858,51.29633
END:VEVENT
END:VCALENDAR