BEGIN:VCALENDAR
VERSION:2.0
PRODID:-//Golf Emotion - ECPv6.15.12.2//NONSGML v1.0//EN
CALSCALE:GREGORIAN
METHOD:PUBLISH
X-WR-CALNAME:Golf Emotion
X-ORIGINAL-URL:https://www.golf-emotion.eu
X-WR-CALDESC:Veranstaltungen für Golf Emotion
REFRESH-INTERVAL;VALUE=DURATION:PT1H
X-Robots-Tag:noindex
X-PUBLISHED-TTL:PT1H
BEGIN:VTIMEZONE
TZID:Europe/Berlin
BEGIN:DAYLIGHT
TZOFFSETFROM:+0100
TZOFFSETTO:+0200
TZNAME:CEST
DTSTART:20250330T010000
END:DAYLIGHT
BEGIN:STANDARD
TZOFFSETFROM:+0200
TZOFFSETTO:+0100
TZNAME:CET
DTSTART:20251026T010000
END:STANDARD
BEGIN:DAYLIGHT
TZOFFSETFROM:+0100
TZOFFSETTO:+0200
TZNAME:CEST
DTSTART:20260329T010000
END:DAYLIGHT
BEGIN:STANDARD
TZOFFSETFROM:+0200
TZOFFSETTO:+0100
TZNAME:CET
DTSTART:20261025T010000
END:STANDARD
BEGIN:DAYLIGHT
TZOFFSETFROM:+0100
TZOFFSETTO:+0200
TZNAME:CEST
DTSTART:20270328T010000
END:DAYLIGHT
BEGIN:STANDARD
TZOFFSETFROM:+0200
TZOFFSETTO:+0100
TZNAME:CET
DTSTART:20271031T010000
END:STANDARD
END:VTIMEZONE
BEGIN:VEVENT
DTSTART;VALUE=DATE:20260430
DTEND;VALUE=DATE:20260501
DTSTAMP:20260425T122417
CREATED:20260302T164152Z
LAST-MODIFIED:20260302T164153Z
UID:10005071-1777507200-1777593599@www.golf-emotion.eu
SUMMARY:Golfclub Bad Arolsen JOKA After-Work Trophy
DESCRIPTION:
URL:https://www.golf-emotion.eu/event/golfclub-bad-arolsen-joka-after-work-trophy-2/2026-04-30/
LOCATION:Golfclub Bad Arolsen\, Zum Wiggenberg 33\, Bad Arolsen\, 34454\, Deutschland
CATEGORIES:Turniere,Turnierkalender
ATTACH;FMTTYPE=image/jpeg:https://www.golf-emotion.eu/wp-content/uploads/GC-Bad-Arolsen-2.jpg
ORGANIZER;CN="Golf Emotion":MAILTO:info@golf-emotion.eu
GEO:51.374379;9.05735
X-APPLE-STRUCTURED-LOCATION;VALUE=URI;X-ADDRESS=Golfclub Bad Arolsen Zum Wiggenberg 33 Bad Arolsen 34454 Deutschland;X-APPLE-RADIUS=500;X-TITLE=Zum Wiggenberg 33:geo:9.05735,51.374379
END:VEVENT
END:VCALENDAR