BEGIN:VCALENDAR
VERSION:2.0
PRODID:-//Golf Emotion - ECPv6.15.12.2//NONSGML v1.0//EN
CALSCALE:GREGORIAN
METHOD:PUBLISH
X-WR-CALNAME:Golf Emotion
X-ORIGINAL-URL:https://www.golf-emotion.eu
X-WR-CALDESC:Veranstaltungen für Golf Emotion
REFRESH-INTERVAL;VALUE=DURATION:PT1H
X-Robots-Tag:noindex
X-PUBLISHED-TTL:PT1H
BEGIN:VTIMEZONE
TZID:Europe/Berlin
BEGIN:DAYLIGHT
TZOFFSETFROM:+0100
TZOFFSETTO:+0200
TZNAME:CEST
DTSTART:20250330T010000
END:DAYLIGHT
BEGIN:STANDARD
TZOFFSETFROM:+0200
TZOFFSETTO:+0100
TZNAME:CET
DTSTART:20251026T010000
END:STANDARD
BEGIN:DAYLIGHT
TZOFFSETFROM:+0100
TZOFFSETTO:+0200
TZNAME:CEST
DTSTART:20260329T010000
END:DAYLIGHT
BEGIN:STANDARD
TZOFFSETFROM:+0200
TZOFFSETTO:+0100
TZNAME:CET
DTSTART:20261025T010000
END:STANDARD
BEGIN:DAYLIGHT
TZOFFSETFROM:+0100
TZOFFSETTO:+0200
TZNAME:CEST
DTSTART:20270328T010000
END:DAYLIGHT
BEGIN:STANDARD
TZOFFSETFROM:+0200
TZOFFSETTO:+0100
TZNAME:CET
DTSTART:20271031T010000
END:STANDARD
END:VTIMEZONE
BEGIN:VEVENT
DTSTART;VALUE=DATE:20260510
DTEND;VALUE=DATE:20260511
DTSTAMP:20260423T134315
CREATED:20221228T064929Z
LAST-MODIFIED:20260318T095812Z
UID:10003437-1778371200-1778457599@www.golf-emotion.eu
SUMMARY:Golfclub Am Donner Kleve JOKA Matchday-Plus Tagesturnier
DESCRIPTION:
URL:https://www.golf-emotion.eu/event/golfclub-am-donner-kleve-joka-matchday-plus-tagesturnier/
LOCATION:Golfclub Am Donner Kleve\, Alte Landstr. 1\, St. Michaelisdonn\, 25693\, Deutschland
CATEGORIES:Turniere,Turnierkalender
ATTACH;FMTTYPE=image/jpeg:https://www.golf-emotion.eu/wp-content/uploads/GC-Am-Donner-Kleve.jpg
ORGANIZER;CN="Golf Emotion":MAILTO:info@golf-emotion.eu
GEO:53.98389;9.1458
X-APPLE-STRUCTURED-LOCATION;VALUE=URI;X-ADDRESS=Golfclub Am Donner Kleve Alte Landstr. 1 St. Michaelisdonn 25693 Deutschland;X-APPLE-RADIUS=500;X-TITLE=Alte Landstr. 1:geo:9.1458,53.98389
END:VEVENT
BEGIN:VEVENT
DTSTART;VALUE=DATE:20260524
DTEND;VALUE=DATE:20260525
DTSTAMP:20260423T134315
CREATED:20221228T065306Z
LAST-MODIFIED:20260318T095718Z
UID:10003438-1779580800-1779667199@www.golf-emotion.eu
SUMMARY:Golfclub Am Donner Kleve JOKA Matchday-Plus 2er Texas-Scramble Tagesturnier
DESCRIPTION:
URL:https://www.golf-emotion.eu/event/golfclub-am-donner-kleve-joka-matchday-plus-2er-texas-scramble-tagesturnier/
LOCATION:Golfclub Am Donner Kleve\, Alte Landstr. 1\, St. Michaelisdonn\, 25693\, Deutschland
CATEGORIES:Turniere,Turnierkalender
ATTACH;FMTTYPE=image/jpeg:https://www.golf-emotion.eu/wp-content/uploads/GC-Am-Donner-Kleve.jpg
ORGANIZER;CN="Golf Emotion":MAILTO:info@golf-emotion.eu
GEO:53.98389;9.1458
X-APPLE-STRUCTURED-LOCATION;VALUE=URI;X-ADDRESS=Golfclub Am Donner Kleve Alte Landstr. 1 St. Michaelisdonn 25693 Deutschland;X-APPLE-RADIUS=500;X-TITLE=Alte Landstr. 1:geo:9.1458,53.98389
END:VEVENT
END:VCALENDAR